BEGIN:VCALENDAR
VERSION:2.0
PRODID:-//Zaan Business - ECPv6.15.15//NONSGML v1.0//EN
CALSCALE:GREGORIAN
METHOD:PUBLISH
X-ORIGINAL-URL:https://www.zaanbusiness.nl
X-WR-CALDESC:Evenementen voor Zaan Business
REFRESH-INTERVAL;VALUE=DURATION:PT1H
X-Robots-Tag:noindex
X-PUBLISHED-TTL:PT1H
BEGIN:VTIMEZONE
TZID:Europe/Amsterdam
BEGIN:DAYLIGHT
TZOFFSETFROM:+0100
TZOFFSETTO:+0200
TZNAME:CEST
DTSTART:20240331T010000
END:DAYLIGHT
BEGIN:STANDARD
TZOFFSETFROM:+0200
TZOFFSETTO:+0100
TZNAME:CET
DTSTART:20241027T010000
END:STANDARD
BEGIN:DAYLIGHT
TZOFFSETFROM:+0100
TZOFFSETTO:+0200
TZNAME:CEST
DTSTART:20250330T010000
END:DAYLIGHT
BEGIN:STANDARD
TZOFFSETFROM:+0200
TZOFFSETTO:+0100
TZNAME:CET
DTSTART:20251026T010000
END:STANDARD
BEGIN:DAYLIGHT
TZOFFSETFROM:+0100
TZOFFSETTO:+0200
TZNAME:CEST
DTSTART:20260329T010000
END:DAYLIGHT
BEGIN:STANDARD
TZOFFSETFROM:+0200
TZOFFSETTO:+0100
TZNAME:CET
DTSTART:20261025T010000
END:STANDARD
END:VTIMEZONE
BEGIN:VEVENT
DTSTART;TZID=Europe/Amsterdam:20251008T190000
DTEND;TZID=Europe/Amsterdam:20251008T223000
DTSTAMP:20260420T100234
CREATED:20250812T065258Z
LAST-MODIFIED:20250812T070348Z
UID:10000062-1759950000-1759962600@www.zaanbusiness.nl
SUMMARY:Het Zaanse Inkoopevent 2025
DESCRIPTION:Ben jij een ondernemer in Zaanstad en wil je jouw stem laten horen over aanbestedingen?\nMeld je aan en kom naar het gemeentehuis op 8 oktober en praat mee over de toekomst van zakendoen in onze stad. \n🌟 Ontdek de kansen voor jouw bedrijf bij Het Zaanse Inkoopevent 2025!\nNa de succesvolle editie van vorig jaar\, hopen we je ook dit jaar weer te verwelkomen. \n📅 Wanneer: 8 oktober 2025\n🕖 Tijd: Inloop vanaf 19.00 uur\, programma start om 19.30 uur\n🏢 Waar: Stadhuis Zaanstad\, Stadhuisplein 100\, Zaandam \n✔️ Openingswoord door wethouder Stephanie Onclin MSc\n✔️ Leer van Peter Streefkerk hoe MKB’ers succesvol kunnen inschrijven voor aanbestedingen (en ontvang zijn boek als cadeau!)\n✔️ Ga in gesprek met aanbestedingsadviseurs\, contractmanagers en kennisspecialisten. \nMeld je aan via de volgende link: https://lnkd.in/e7DTy5uk\nHeb je vragen? Stuur een e-mail naar inkoop@zaanstad.nl.
URL:https://www.zaanbusiness.nl/event/het-zaanse-inkoopevent-2025/
LOCATION:Stadhuis Zaandam\, Stadhuisplein 100\, Zaandam\, 1506MZ
CATEGORIES:Netwerkbijeenkomsten
END:VEVENT
BEGIN:VEVENT
DTSTART;TZID=Europe/Amsterdam:20250122T160000
DTEND;TZID=Europe/Amsterdam:20250122T190000
DTSTAMP:20260420T100234
CREATED:20241210T081107Z
LAST-MODIFIED:20241210T081649Z
UID:10000052-1737561600-1737572400@www.zaanbusiness.nl
SUMMARY:Ondernemers bijeenkomst Zaanstreek-Waterland
DESCRIPTION:
URL:https://www.zaanbusiness.nl/event/ondernemers-bijeenkomst-zaanstreek-waterland/
LOCATION:Rabobank Purmerend\, Wielingenstraaat 2\, Purmerend
CATEGORIES:Netwerkbijeenkomsten
ATTACH;FMTTYPE=image/jpeg:https://www.zaanbusiness.nl/wp-content/uploads/2024/12/Uitnodiging-ondernemersbijeenkomst-22-01.jpg
END:VEVENT
END:VCALENDAR